BEGIN:VCALENDAR
VERSION:2.0
PRODID:-//Hostivický pěvecký sbor - ECPv6.15.20//NONSGML v1.0//EN
CALSCALE:GREGORIAN
METHOD:PUBLISH
X-ORIGINAL-URL:https://hostivickypeveckysbor.cz
X-WR-CALDESC:Akce na Hostivický pěvecký sbor
REFRESH-INTERVAL;VALUE=DURATION:PT1H
X-Robots-Tag:noindex
X-PUBLISHED-TTL:PT1H
BEGIN:VTIMEZONE
TZID:Europe/Prague
BEGIN:DAYLIGHT
TZOFFSETFROM:+0100
TZOFFSETTO:+0200
TZNAME:CEST
DTSTART:20250330T010000
END:DAYLIGHT
BEGIN:STANDARD
TZOFFSETFROM:+0200
TZOFFSETTO:+0100
TZNAME:CET
DTSTART:20251026T010000
END:STANDARD
BEGIN:DAYLIGHT
TZOFFSETFROM:+0100
TZOFFSETTO:+0200
TZNAME:CEST
DTSTART:20260329T010000
END:DAYLIGHT
BEGIN:STANDARD
TZOFFSETFROM:+0200
TZOFFSETTO:+0100
TZNAME:CET
DTSTART:20261025T010000
END:STANDARD
BEGIN:DAYLIGHT
TZOFFSETFROM:+0100
TZOFFSETTO:+0200
TZNAME:CEST
DTSTART:20270328T010000
END:DAYLIGHT
BEGIN:STANDARD
TZOFFSETFROM:+0200
TZOFFSETTO:+0100
TZNAME:CET
DTSTART:20271031T010000
END:STANDARD
END:VTIMEZONE
BEGIN:VEVENT
DTSTART;TZID=Europe/Prague:20260523T170000
DTEND;TZID=Europe/Prague:20260523T200000
DTSTAMP:20260425T163603
CREATED:20260106T234130Z
LAST-MODIFIED:20260419T202753Z
UID:6246-1779555600-1779566400@hostivickypeveckysbor.cz
SUMMARY:Hostivické sborobraní 2026 - 23.5.2026 17:00
DESCRIPTION:Na letošním ročníku festivalu se představí sbory Continuo\, InVoice\, Notabene\, Rosa a hostitelský Hostivický pěvecký sbor.
URL:https://hostivickypeveckysbor.cz/event/hostivicke-sborobrani-2026/
LOCATION:Sokolovna Hostivice\, Jiráskova 201\, Hostivice\, 253 01\, Česká republika
CATEGORIES:Připravujeme
ATTACH;FMTTYPE=image/png:https://hostivickypeveckysbor.cz/wp-content/uploads/2026/01/Sborobrani_2026_nahled-1.png
END:VEVENT
BEGIN:VEVENT
DTSTART;TZID=Europe/Prague:20260530T080000
DTEND;TZID=Europe/Prague:20260530T170000
DTSTAMP:20260425T163603
CREATED:20260127T213224Z
LAST-MODIFIED:20260419T201224Z
UID:6253-1780128000-1780160400@hostivickypeveckysbor.cz
SUMMARY:Hájecká nota - 30.5.2026 15:00
DESCRIPTION:Ve františkánském kostele v Hájku u Prahy se bude konat další ročník kulturního festivalu Hájecká nota. Je nám ctí být opět jeho součástí.
URL:https://hostivickypeveckysbor.cz/event/hajecka-nota-30-5-2025/
LOCATION:Františkánský klášter v Hájku\, Červený Újezd\, Česká republika
CATEGORIES:Připravujeme
ATTACH;FMTTYPE=image/jpeg:https://hostivickypeveckysbor.cz/wp-content/uploads/2023/06/230610_Hajecka_nota_nahled-1.jpg
END:VEVENT
BEGIN:VEVENT
DTSTART;TZID=Europe/Prague:20260613T150000
DTEND;TZID=Europe/Prague:20260613T160000
DTSTAMP:20260425T163603
CREATED:20260419T200202Z
LAST-MODIFIED:20260419T200809Z
UID:6288-1781362800-1781366400@hostivickypeveckysbor.cz
SUMMARY:Koncert v Poštorné - 13.6.2026 15:00
DESCRIPTION:Sezónu zakončíme koncertem na jihu Moravy – v kostele navštívení Panny Marie v Břeclavi – Poštorné.
URL:https://hostivickypeveckysbor.cz/event/koncert-v-postorne-13-6-2026-1500/
LOCATION:Kostel v Břeclavi – Poštorné\, Kostel Navštívení Panny Marie\, Břeclav 4
CATEGORIES:Připravujeme
ATTACH;FMTTYPE=image/jpeg:https://hostivickypeveckysbor.cz/wp-content/uploads/2026/04/260613_Postorna_nahled.jpg
END:VEVENT
END:VCALENDAR