BEGIN:VCALENDAR
VERSION:2.0
PRODID:-//Hostivický pěvecký sbor - ECPv6.15.20//NONSGML v1.0//EN
CALSCALE:GREGORIAN
METHOD:PUBLISH
X-WR-CALNAME:Hostivický pěvecký sbor
X-ORIGINAL-URL:https://hostivickypeveckysbor.cz
X-WR-CALDESC:Akce na Hostivický pěvecký sbor
REFRESH-INTERVAL;VALUE=DURATION:PT1H
X-Robots-Tag:noindex
X-PUBLISHED-TTL:PT1H
BEGIN:VTIMEZONE
TZID:Europe/Prague
BEGIN:DAYLIGHT
TZOFFSETFROM:+0100
TZOFFSETTO:+0200
TZNAME:CEST
DTSTART:20210328T010000
END:DAYLIGHT
BEGIN:STANDARD
TZOFFSETFROM:+0200
TZOFFSETTO:+0100
TZNAME:CET
DTSTART:20211031T010000
END:STANDARD
BEGIN:DAYLIGHT
TZOFFSETFROM:+0100
TZOFFSETTO:+0200
TZNAME:CEST
DTSTART:20220327T010000
END:DAYLIGHT
BEGIN:STANDARD
TZOFFSETFROM:+0200
TZOFFSETTO:+0100
TZNAME:CET
DTSTART:20221030T010000
END:STANDARD
BEGIN:DAYLIGHT
TZOFFSETFROM:+0100
TZOFFSETTO:+0200
TZNAME:CEST
DTSTART:20230326T010000
END:DAYLIGHT
BEGIN:STANDARD
TZOFFSETFROM:+0200
TZOFFSETTO:+0100
TZNAME:CET
DTSTART:20231029T010000
END:STANDARD
BEGIN:DAYLIGHT
TZOFFSETFROM:+0100
TZOFFSETTO:+0200
TZNAME:CEST
DTSTART:20240331T010000
END:DAYLIGHT
BEGIN:STANDARD
TZOFFSETFROM:+0200
TZOFFSETTO:+0100
TZNAME:CET
DTSTART:20241027T010000
END:STANDARD
END:VTIMEZONE
BEGIN:VEVENT
DTSTART;TZID=Europe/Prague:20230422T170000
DTEND;TZID=Europe/Prague:20230422T200000
DTSTAMP:20260426T053930
CREATED:20230109T230352Z
LAST-MODIFIED:20230327T233733Z
UID:3730-1682182800-1682193600@hostivickypeveckysbor.cz
SUMMARY:Hostivické sborobraní 2023
DESCRIPTION:Další ročník oblíbeného festivalu amatérských pěveckých sborů se bude konat v sobotu 22.dubna 2023. Začínáme už v 17 hodin. Účast potvrdily soubory Abalone\, Hlasy ve tmě\, Choirizzo a Lanškrounský pěvecký sbor. Samozřejmě vystoupí též pořádající Hostivický pěvecký sbor.
URL:https://hostivickypeveckysbor.cz/event/hostivicke-sborobrani-2023/
LOCATION:Sokolovna Hostivice\, Jiráskova 201\, Hostivice\, 253 01\, Česká republika
CATEGORIES:Připravujeme
ATTACH;FMTTYPE=image/png:https://hostivickypeveckysbor.cz/wp-content/uploads/2023/01/Hostivicke_sborobrani_2023_cropped.png
END:VEVENT
BEGIN:VEVENT
DTSTART;TZID=Europe/Prague:20230402T160000
DTEND;TZID=Europe/Prague:20230402T170000
DTSTAMP:20260426T053930
CREATED:20230322T231411Z
LAST-MODIFIED:20230322T231657Z
UID:3753-1680451200-1680454800@hostivickypeveckysbor.cz
SUMMARY:Velikonoce se blíží!
DESCRIPTION:V neděli 2.dubna v 16 hodin začíná náš koncert na velikonočním jarmarku ve dvoře kavárny Prostor a čas.
URL:https://hostivickypeveckysbor.cz/event/velikonoce-se-blizi/
LOCATION:Kavárna Prostor a čas\, Husovo nám. 9\, Hostivice\, 253 01\, Česká republika
CATEGORIES:Připravujeme
ATTACH;FMTTYPE=image/jpeg:https://hostivickypeveckysbor.cz/wp-content/uploads/2023/03/FB_IMG_1679491685079-1.jpg
END:VEVENT
BEGIN:VEVENT
DTSTART;TZID=Europe/Prague:20230108T160000
DTEND;TZID=Europe/Prague:20230108T173000
DTSTAMP:20260426T053930
CREATED:20221122T182513Z
LAST-MODIFIED:20221122T183112Z
UID:3690-1673193600-1673199000@hostivickypeveckysbor.cz
SUMMARY:Tříkrálový koncert u Panny Marie Sněžné
DESCRIPTION:Už potřetí jsme byli pozváni\, abychom vystoupili na tříkrálovém koncertě v chrámu Panny Marie Sněžné v Praze. Chrám má jedinečnou akustiku\, koncert je krásným vyvrcholením vánočního času. Přijďte si nás poslechnout v neděli 8.ledna 2023 v 16 hodin.
URL:https://hostivickypeveckysbor.cz/event/trikralovy-koncert-u-panny-marie-snezne/
LOCATION:Chrám Panny Marie Sněžné\, Jungmannovo náměstí 753/18\, Praha 1\, Česká republika
CATEGORIES:Připravujeme
ATTACH;FMTTYPE=image/jpeg:https://hostivickypeveckysbor.cz/wp-content/uploads/2022/11/Trikralovy_koncert_20231-2.jpg
END:VEVENT
BEGIN:VEVENT
DTSTART;TZID=Europe/Prague:20221218T150000
DTEND;TZID=Europe/Prague:20221218T153000
DTSTAMP:20260426T053930
CREATED:20221120T183242Z
LAST-MODIFIED:20221122T183719Z
UID:3676-1671375600-1671377400@hostivickypeveckysbor.cz
SUMMARY:Vánoční trhy na Staroměstském náměstí
DESCRIPTION:O poslední adventní neděli 18.prosince nás můžete potkat na Staroměstském náměstí v Praze. Naše vystoupení na vánočních trzích začíná v 15 hodin.
URL:https://hostivickypeveckysbor.cz/event/vanocni-trhy-na-staromestskem-namesti/
LOCATION:Staroměstské náměstí\, Staroměstské náměstí\, Praha 1\, Česká republika
CATEGORIES:Připravujeme
ATTACH;FMTTYPE=image/jpeg:https://hostivickypeveckysbor.cz/wp-content/uploads/2022/11/Strom_na_web-1.jpg
END:VEVENT
BEGIN:VEVENT
DTSTART;TZID=Europe/Prague:20221127T160000
DTEND;TZID=Europe/Prague:20221127T170000
DTSTAMP:20260426T053930
CREATED:20221114T074931Z
LAST-MODIFIED:20221127T230229Z
UID:3596-1669564800-1669568400@hostivickypeveckysbor.cz
SUMMARY:Koncert v kavárně Prostor a čas
DESCRIPTION:O první adventní neděli 27.11. v 16 hodin nás uslyšíte na adventním trhu ve dvoře kavárny Prostor a čas.
URL:https://hostivickypeveckysbor.cz/event/koncert-v-kavarne-prostor-a-cas/
LOCATION:Kavárna Prostor a čas\, Husovo nám. 9\, Hostivice\, 253 01\, Česká republika
CATEGORIES:Připravujeme
ATTACH;FMTTYPE=image/jpeg:https://hostivickypeveckysbor.cz/wp-content/uploads/2022/11/Jarmark_Prostor_a_cas-1.jpg
END:VEVENT
BEGIN:VEVENT
DTSTART;TZID=Europe/Prague:20221126T180000
DTEND;TZID=Europe/Prague:20221126T190000
DTSTAMP:20260426T053930
CREATED:20221113T204934Z
LAST-MODIFIED:20221127T230229Z
UID:3546-1669485600-1669489200@hostivickypeveckysbor.cz
SUMMARY:Hostivické světélkování - koncert
DESCRIPTION:Tradiční koncert\, který uzavírá Hostivické světélkování. Hostivický pěvecký sbor pod vedením sbormistryně Hany Krejčové přednese nejen adventní a vánoční skladby. V kostele sv. Jakuba začínáme v sobotu 26.11. v 18 hodin. Program najdete na našem Facebooku nebo v příspěvku na tomto webu.
URL:https://hostivickypeveckysbor.cz/event/hostivicke-svetelkovani-koncert/
LOCATION:Kostel svatého Jakuba\, Husovo náměstí 5\, Hostivice\, 253 01
CATEGORIES:Připravujeme
ATTACH;FMTTYPE=image/jpeg:https://hostivickypeveckysbor.cz/wp-content/uploads/2022/11/HPS_12365-websize.jpg
END:VEVENT
BEGIN:VEVENT
DTSTART;TZID=Europe/Prague:20221126T150000
DTEND;TZID=Europe/Prague:20221126T160000
DTSTAMP:20260426T053930
CREATED:20221113T204312Z
LAST-MODIFIED:20221127T230229Z
UID:3543-1669474800-1669478400@hostivickypeveckysbor.cz
SUMMARY:Koncert v Domově seniorů Zelená lípa
DESCRIPTION:Předpremiéra podvečerního koncertu doplněná o společný zpěv koled. Sobota 26.11. v 15 hodin.
URL:https://hostivickypeveckysbor.cz/event/koncert-v-domove-senioru-zelena-lipa/
LOCATION:Domov seniorů Zelená lípa\, Pelzova 1701\, Hostivice\, 253 01\, Česká republika
CATEGORIES:Připravujeme
ATTACH;FMTTYPE=image/jpeg:https://hostivickypeveckysbor.cz/wp-content/uploads/2022/11/IMG_4595-1.jpg
END:VEVENT
END:VCALENDAR