BEGIN:VCALENDAR
VERSION:2.0
PRODID:-//Hostivický pěvecký sbor - ECPv6.15.20//NONSGML v1.0//EN
CALSCALE:GREGORIAN
METHOD:PUBLISH
X-WR-CALNAME:Hostivický pěvecký sbor
X-ORIGINAL-URL:https://hostivickypeveckysbor.cz
X-WR-CALDESC:Akce na Hostivický pěvecký sbor
REFRESH-INTERVAL;VALUE=DURATION:PT1H
X-Robots-Tag:noindex
X-PUBLISHED-TTL:PT1H
BEGIN:VTIMEZONE
TZID:Europe/Prague
BEGIN:DAYLIGHT
TZOFFSETFROM:+0100
TZOFFSETTO:+0200
TZNAME:CEST
DTSTART:20210328T010000
END:DAYLIGHT
BEGIN:STANDARD
TZOFFSETFROM:+0200
TZOFFSETTO:+0100
TZNAME:CET
DTSTART:20211031T010000
END:STANDARD
BEGIN:DAYLIGHT
TZOFFSETFROM:+0100
TZOFFSETTO:+0200
TZNAME:CEST
DTSTART:20220327T010000
END:DAYLIGHT
BEGIN:STANDARD
TZOFFSETFROM:+0200
TZOFFSETTO:+0100
TZNAME:CET
DTSTART:20221030T010000
END:STANDARD
BEGIN:DAYLIGHT
TZOFFSETFROM:+0100
TZOFFSETTO:+0200
TZNAME:CEST
DTSTART:20230326T010000
END:DAYLIGHT
BEGIN:STANDARD
TZOFFSETFROM:+0200
TZOFFSETTO:+0100
TZNAME:CET
DTSTART:20231029T010000
END:STANDARD
BEGIN:DAYLIGHT
TZOFFSETFROM:+0100
TZOFFSETTO:+0200
TZNAME:CEST
DTSTART:20240331T010000
END:DAYLIGHT
BEGIN:STANDARD
TZOFFSETFROM:+0200
TZOFFSETTO:+0100
TZNAME:CET
DTSTART:20241027T010000
END:STANDARD
BEGIN:DAYLIGHT
TZOFFSETFROM:+0100
TZOFFSETTO:+0200
TZNAME:CEST
DTSTART:20250330T010000
END:DAYLIGHT
BEGIN:STANDARD
TZOFFSETFROM:+0200
TZOFFSETTO:+0100
TZNAME:CET
DTSTART:20251026T010000
END:STANDARD
BEGIN:DAYLIGHT
TZOFFSETFROM:+0100
TZOFFSETTO:+0200
TZNAME:CEST
DTSTART:20260329T010000
END:DAYLIGHT
BEGIN:STANDARD
TZOFFSETFROM:+0200
TZOFFSETTO:+0100
TZNAME:CET
DTSTART:20261025T010000
END:STANDARD
BEGIN:DAYLIGHT
TZOFFSETFROM:+0100
TZOFFSETTO:+0200
TZNAME:CEST
DTSTART:20270328T010000
END:DAYLIGHT
BEGIN:STANDARD
TZOFFSETFROM:+0200
TZOFFSETTO:+0100
TZNAME:CET
DTSTART:20271031T010000
END:STANDARD
END:VTIMEZONE
BEGIN:VEVENT
DTSTART;TZID=Europe/Prague:20260411T100000
DTEND;TZID=Europe/Prague:20260411T113000
DTSTAMP:20260426T052549
CREATED:20260407T115810Z
LAST-MODIFIED:20260407T115821Z
UID:6280-1775901600-1775907000@hostivickypeveckysbor.cz
SUMMARY:Tábor - 11.4.2026 10:00
DESCRIPTION:Festival pokračuje v sobotu v kostele CČSH v Táboře.
URL:https://hostivickypeveckysbor.cz/event/tabor-11-4-2026-1000/
CATEGORIES:Připravujeme
ATTACH;FMTTYPE=image/jpeg:https://hostivickypeveckysbor.cz/wp-content/uploads/2026/04/260410_Sezimak_miniatura.jpg
END:VEVENT
BEGIN:VEVENT
DTSTART;TZID=Europe/Prague:20260410T190000
DTEND;TZID=Europe/Prague:20260410T210000
DTSTAMP:20260426T052549
CREATED:20260127T212958Z
LAST-MODIFIED:20260407T115619Z
UID:6250-1775847600-1775854800@hostivickypeveckysbor.cz
SUMMARY:Sezimovo Ústí - 10.4.2026 19:00
DESCRIPTION:Přijali jsme milé pozvání souboru Nokturno ze Sezimova Ústí na Jarní festival sborového zpěvu.
URL:https://hostivickypeveckysbor.cz/event/jarni-festival-sboroveho-zpevu-10-4-2026-1900/
LOCATION:Sezimovo Ústí\, Sezimovo Ústí\, Czech Republic
CATEGORIES:Připravujeme
ATTACH;FMTTYPE=image/jpeg:https://hostivickypeveckysbor.cz/wp-content/uploads/2026/04/260410_Sezimak_miniatura.jpg
END:VEVENT
BEGIN:VEVENT
DTSTART;TZID=Europe/Prague:20260104T160000
DTEND;TZID=Europe/Prague:20260104T173000
DTSTAMP:20260426T052549
CREATED:20250106T161928Z
LAST-MODIFIED:20250106T161928Z
UID:5869-1767542400-1767547800@hostivickypeveckysbor.cz
SUMMARY:Tříkrálový koncert u Panny Marie Sněžné - 4.1.2026 16:00
DESCRIPTION:Bez tříkrálového koncertu u Panny Marie Sněžné by náš rok nezačal tak\, jak má! 🙂
URL:https://hostivickypeveckysbor.cz/event/trikralovy-koncert-u-panny-marie-snezne-4-1-2026-1600/
LOCATION:Chrám Panny Marie Sněžné\, Jungmannovo náměstí 753/18\, Praha 1\, Česká republika
CATEGORIES:Připravujeme
ATTACH;FMTTYPE=image/jpeg:https://hostivickypeveckysbor.cz/wp-content/uploads/2025/01/PMS_2025_nahled.jpg
END:VEVENT
BEGIN:VEVENT
DTSTART;TZID=Europe/Prague:20251214T150000
DTEND;TZID=Europe/Prague:20251214T160000
DTSTAMP:20260426T052549
CREATED:20250106T161528Z
LAST-MODIFIED:20250106T161528Z
UID:5865-1765724400-1765728000@hostivickypeveckysbor.cz
SUMMARY:Advent v Bělokách - 14.12.2025 15:00
DESCRIPTION:Potřetí budeme zpívat v kapli sv. Florána – už teď se těšíme na sousedskou atmosféru!
URL:https://hostivickypeveckysbor.cz/event/advent-v-belokach-14-12-2025-1500/
LOCATION:Kaple sv. Floriana\, Kaple sv. Floriana\, Běloky\, Česká republika
CATEGORIES:Připravujeme
ATTACH;FMTTYPE=image/jpeg:https://hostivickypeveckysbor.cz/wp-content/uploads/2025/01/Beloky_2024_nahled.jpg
END:VEVENT
BEGIN:VEVENT
DTSTART;TZID=Europe/Prague:20251213T190000
DTEND;TZID=Europe/Prague:20251213T203000
DTSTAMP:20260426T052549
CREATED:20251114T133717Z
LAST-MODIFIED:20251114T133717Z
UID:6203-1765652400-1765657800@hostivickypeveckysbor.cz
SUMMARY:Adventní koncert u sv. Petra - 13.12.2025 19:00
DESCRIPTION:Letos jsme opět dostali milé pozvání vystoupit na adventním koncertě Spolku přátel Petrské čtvrti. Koná se v sobotu 13.prosince v 19 v kostele sv. Petra (kde jinde :-)).
URL:https://hostivickypeveckysbor.cz/event/adventni-koncert-u-sv-petra-13-12-2025-1900/
LOCATION:Kostel sv. Petra\, Biskupská 1137/13\, Praha\, Czech Republic
CATEGORIES:Připravujeme
ATTACH;FMTTYPE=image/jpeg:https://hostivickypeveckysbor.cz/wp-content/uploads/2024/12/Varhany_u_sv_Petra_nahled-scaled.jpg
END:VEVENT
BEGIN:VEVENT
DTSTART;TZID=Europe/Prague:20251130T160000
DTEND;TZID=Europe/Prague:20251130T163000
DTSTAMP:20260426T052549
CREATED:20251114T132101Z
LAST-MODIFIED:20251114T133952Z
UID:6199-1764518400-1764520200@hostivickypeveckysbor.cz
SUMMARY:Staroměstské náměstí\, Praha - 30.11.2025 16:00
DESCRIPTION:Vánoční trhy na Staroměstském náměstí lákají Pražany i návštěvníky Prahy spoustou světel\, stánků\, majestátným vánočním stromem a také zajímavým kulturním programem. Pokud nás chcete slyšet právě tam\, přijďte k pódiu v neděli 30.listopadu v 16 hodin.
URL:https://hostivickypeveckysbor.cz/event/staromestske-namesti-praha-30-11-2025-1600/
LOCATION:Staroměstské náměstí\, Staroměstské náměstí\, Praha 1\, Česká republika
CATEGORIES:Připravujeme
ATTACH;FMTTYPE=image/jpeg:https://hostivickypeveckysbor.cz/wp-content/uploads/2022/11/Strom_na_web-1.jpg
END:VEVENT
BEGIN:VEVENT
DTSTART;TZID=Europe/Prague:20251129T171500
DTEND;TZID=Europe/Prague:20251129T181500
DTSTAMP:20260426T052549
CREATED:20251114T131147Z
LAST-MODIFIED:20251114T134101Z
UID:6196-1764436500-1764440100@hostivickypeveckysbor.cz
SUMMARY:Hostivické světélkování - 29.11.2025 17:15
DESCRIPTION:Po loňské přestávce se vracíme do hostivického adventního programu. Naše vystoupení začne v 17:15 na pódiu v Zámecké zahradě.
URL:https://hostivickypeveckysbor.cz/event/hostivicke-svetelkovani-29-11-2025-1715/
LOCATION:Zámecká zahrada\, Zámecká zahrada\, Hostivice
CATEGORIES:Připravujeme
ATTACH;FMTTYPE=image/jpeg:https://hostivickypeveckysbor.cz/wp-content/uploads/2024/10/Adventni_koncert_nahled-1.jpg
END:VEVENT
BEGIN:VEVENT
DTSTART;TZID=Europe/Prague:20250914T090000
DTEND;TZID=Europe/Prague:20250914T140000
DTSTAMP:20260426T052549
CREATED:20250609T140306Z
LAST-MODIFIED:20250609T140317Z
UID:6082-1757840400-1757858400@hostivickypeveckysbor.cz
SUMMARY:Koncert v NO CČSH v Úpici - 14.9.2025
DESCRIPTION:Po slavnostní bohoslužbě ve sboru Církve československé husitské v Úpici\, kterou máme tu čest naším zpěvem doprovázet\, bude následovat koncert.
URL:https://hostivickypeveckysbor.cz/event/koncert-v-no-ccsh-v-upici-14-9-2025/
LOCATION:Husův sbor\, Úpice\, Husova 644\, Úpice\, 54232\, Czech Republic
CATEGORIES:Připravujeme
ATTACH;FMTTYPE=image/jpeg:https://hostivickypeveckysbor.cz/wp-content/uploads/2025/06/NO_Upice_nahled.jpg
END:VEVENT
BEGIN:VEVENT
DTSTART;TZID=Europe/Prague:20250727T090000
DTEND;TZID=Europe/Prague:20250727T090000
DTSTAMP:20260426T052549
CREATED:20250522T100128Z
LAST-MODIFIED:20250714T204101Z
UID:6045-1753606800-1753606800@hostivickypeveckysbor.cz
SUMMARY:Oslava hostivických zvonů - 27.7.2025
DESCRIPTION:Požehnání hostivických zvonů – Jakuba\, Vavřince a Vojtěcha. Celodenní oslava\, na které zazpívá také Hostivický pěvecký sbor. Vystupujeme ve 14 hodin ve farní zahradě.
URL:https://hostivickypeveckysbor.cz/event/oslava-hostivickych-zvonu-27-7-2025/
LOCATION:Husovo náměstí\, Hostivice\, Husovo náměstí\, Hostivice\, Česká republika
CATEGORIES:Připravujeme
ATTACH;FMTTYPE=image/jpeg:https://hostivickypeveckysbor.cz/wp-content/uploads/2024/06/Zvony_nahled.jpg
END:VEVENT
BEGIN:VEVENT
DTSTART;TZID=Europe/Prague:20250531T093000
DTEND;TZID=Europe/Prague:20250531T170000
DTSTAMP:20260426T052549
CREATED:20250416T162515Z
LAST-MODIFIED:20250416T163219Z
UID:6015-1748683800-1748710800@hostivickypeveckysbor.cz
SUMMARY:Hájecká nota - 31.5.2025 9:30
DESCRIPTION:Celodenní kulturní akce\, v rámci které budeme zpěvem Truvérské mše Petra Ebena doprovázet bohoslužbu.
URL:https://hostivickypeveckysbor.cz/event/hajecka-nota-31-5-2025/
LOCATION:Františkánský klášter v Hájku\, Červený Újezd\, Česká republika
CATEGORIES:Připravujeme
ATTACH;FMTTYPE=image/jpeg:https://hostivickypeveckysbor.cz/wp-content/uploads/2025/04/Hajecka_nota_2025_nahled.jpg
END:VEVENT
BEGIN:VEVENT
DTSTART;TZID=Europe/Prague:20250524T170000
DTEND;TZID=Europe/Prague:20250524T200000
DTSTAMP:20260426T052549
CREATED:20240626T193500Z
LAST-MODIFIED:20250523T215351Z
UID:5620-1748106000-1748116800@hostivickypeveckysbor.cz
SUMMARY:11.ročník Hostivického sborobraní - 24.5.2025 17:00
DESCRIPTION:Pozvání na 11.ročník přijaly sbory \nNovita (Soběslav)\nPantáti (Soběslav)\nChrapot (Mělník)\nKazizpěv (známý též jako Sbor učitelů a přátel školy Gymnázia Matyáše Lercha v Brně) \nProgram koncertu najdete zde.
URL:https://hostivickypeveckysbor.cz/event/11-rocnik-hostivickeho-sborobrani-24-5-2025/
LOCATION:Sokolovna Hostivice\, Jiráskova 201\, Hostivice\, 253 01\, Česká republika
CATEGORIES:Připravujeme
ATTACH;FMTTYPE=image/jpeg:https://hostivickypeveckysbor.cz/wp-content/uploads/2024/06/Hostivicke_sborobrani_2024_nahled-scaled.jpg
END:VEVENT
BEGIN:VEVENT
DTSTART;TZID=Europe/Prague:20250105T160000
DTEND;TZID=Europe/Prague:20250105T173000
DTSTAMP:20260426T052549
CREATED:20241023T192932Z
LAST-MODIFIED:20241023T193102Z
UID:5758-1736092800-1736098200@hostivickypeveckysbor.cz
SUMMARY:Tříkrálový koncert u Panny Marie Sněžné - 5.1.2025 16:00
DESCRIPTION:Tříkrálový koncert v kostele Panny Marie Sněžné na Jungmannově náměstí v Praze bývá naším prvním zpíváním v novém roce a stejně tomu bude i v roce 2025. Už se moc těšíme!
URL:https://hostivickypeveckysbor.cz/event/trikralovy-koncert-u-panny-marie-snezne-5-1-2025-1600/
LOCATION:Chrám Panny Marie Sněžné\, Jungmannovo náměstí 753/18\, Praha 1\, Česká republika
CATEGORIES:Připravujeme
ATTACH;FMTTYPE=image/jpeg:https://hostivickypeveckysbor.cz/wp-content/uploads/2024/03/240107_PMS_nahled.jpg
END:VEVENT
BEGIN:VEVENT
DTSTART;TZID=Europe/Prague:20241222T150000
DTEND;TZID=Europe/Prague:20241222T160000
DTSTAMP:20260426T052549
CREATED:20240919T221551Z
LAST-MODIFIED:20240919T221703Z
UID:5705-1734879600-1734883200@hostivickypeveckysbor.cz
SUMMARY:Běloky 2024 - adventní koncert - 22.12.2024
DESCRIPTION:Koncert za hranicí Hostivice\, v útulné kapli sv. Floriana v Bělokách. Koná se v neděli 22.prosince 2024 v 15 hodin.
URL:https://hostivickypeveckysbor.cz/event/beloky-2024-adventni-koncert/
LOCATION:Kaple sv. Floriana\, Kaple sv. Floriana\, Běloky\, Česká republika
CATEGORIES:Připravujeme
ATTACH;FMTTYPE=image/jpeg:https://hostivickypeveckysbor.cz/wp-content/uploads/2024/09/IMG-20231216-WA0030.jpg
END:VEVENT
BEGIN:VEVENT
DTSTART;TZID=Europe/Prague:20241207T183000
DTEND;TZID=Europe/Prague:20241207T193000
DTSTAMP:20260426T052549
CREATED:20241021T083511Z
LAST-MODIFIED:20241205T113312Z
UID:5745-1733596200-1733599800@hostivickypeveckysbor.cz
SUMMARY:Advent u sv.Petra - 7.12.2024 18:30
DESCRIPTION:V sobotu 7.prosince v podvečer budeme hosty adventního koncertu\, který se bude konat v kostele sv. Petra v Praze na Poříčí.
URL:https://hostivickypeveckysbor.cz/event/advent-u-sv-petra/
LOCATION:Kostel sv. Petra\, Biskupská 1137/13\, Praha\, Czech Republic
CATEGORIES:Připravujeme
ATTACH;FMTTYPE=image/jpeg:https://hostivickypeveckysbor.cz/wp-content/uploads/2024/10/Adventni_koncert_nahled-1.jpg
END:VEVENT
BEGIN:VEVENT
DTSTART;TZID=Europe/Prague:20241201T163000
DTEND;TZID=Europe/Prague:20241201T173000
DTSTAMP:20260426T052549
CREATED:20240301T153008Z
LAST-MODIFIED:20240310T203727Z
UID:4061-1733070600-1733074200@hostivickypeveckysbor.cz
SUMMARY:Advent 2024 u Boromejek v Řepích - 1.12.2024 16:30
DESCRIPTION:V kostele sv.Rodiny nás opět uslyšite o první adventní neděli 1.prosince 2024 v 16:30.
URL:https://hostivickypeveckysbor.cz/event/advent-2024-koncert-u-boromejek-v-repich/
LOCATION:Domov s. Karla Boromejského\, K Šancím 50/6\, Praha 6 - Řepy\, 163 00\, Česká republika
CATEGORIES:Připravujeme
ATTACH;FMTTYPE=image/jpeg:https://hostivickypeveckysbor.cz/wp-content/uploads/2024/02/Obrazek-WhatsApp-2023-12-04-v-06.45.33_00c274f3.jpg
END:VEVENT
BEGIN:VEVENT
DTSTART;TZID=Europe/Prague:20240922T100000
DTEND;TZID=Europe/Prague:20240922T120000
DTSTAMP:20260426T052549
CREATED:20240626T192448Z
LAST-MODIFIED:20240912T145019Z
UID:5616-1726999200-1727006400@hostivickypeveckysbor.cz
SUMMARY:100.výročí sboru CČSH ve Rtyni v Podkrkonoší - 22.9.2024
DESCRIPTION:Oslava 100.výročí založení sboru Církve československé ve Rtyni v Podkrkonoší. Slavnostní mše\, po níž bude následovat koncert sboru. Plakát akce najdete na tomto odkazu.
URL:https://hostivickypeveckysbor.cz/event/100-vyroci-sboru-ccsh-ve-rtyni-v-podkrkonosi-22-9-2024/
LOCATION:Husův sbor\, Rtyně v Podkrkonoší\, Kostelecká 459\, Rtyně v Podkrkonoší\, Česká republika
CATEGORIES:Připravujeme
ATTACH;FMTTYPE=image/jpeg:https://hostivickypeveckysbor.cz/wp-content/uploads/2024/06/240922_Rtyne_nahled.jpeg
END:VEVENT
BEGIN:VEVENT
DTSTART;TZID=Europe/Prague:20240907T190000
DTEND;TZID=Europe/Prague:20240907T203000
DTSTAMP:20260426T052549
CREATED:20240904T164053Z
LAST-MODIFIED:20240904T164246Z
UID:5674-1725735600-1725741000@hostivickypeveckysbor.cz
SUMMARY:S Original Vintage Orchestra - 7.9.2024 v 19 hodin
DESCRIPTION:Po čtyřech letech si opět zazpíváme s famózním světovým nepřekonatelným Original Vintage Orchestra\, tentokrát na městských slavnostech na hostivickém náměstí. Skvělá muzika a dobrá zábava zaručena!
URL:https://hostivickypeveckysbor.cz/event/s-original-vintage-orchestra-7-9-2024-v-19-hodin/
LOCATION:Husovo náměstí\, Hostivice\, Husovo náměstí\, Hostivice\, Česká republika
CATEGORIES:Připravujeme
ATTACH;FMTTYPE=image/jpeg:https://hostivickypeveckysbor.cz/wp-content/uploads/2020/09/200920_Lucerna_nahled.jpg
END:VEVENT
BEGIN:VEVENT
DTSTART;TZID=Europe/Prague:20230902T150000
DTEND;TZID=Europe/Prague:20230902T170000
DTSTAMP:20260426T052549
CREATED:20230527T083948Z
LAST-MODIFIED:20230527T084847Z
UID:3862-1693666800-1693674000@hostivickypeveckysbor.cz
SUMMARY:Městské slavnosti v Hostivici
DESCRIPTION:Velmi rádi jsme přijali nabídku vystoupit na městských slavnostech\, které se konají v sobotu 2.září v Hostivici. Zpívali jsme tu před mnoha a mnoha lety – viz úvodní fotka tohoto příspěvku. Bude to určitě zajímavý návrat 🙂
URL:https://hostivickypeveckysbor.cz/event/mestske-slavnosti-v-hostivici-2-zari-2023/
LOCATION:Husovo náměstí\, Hostivice\, Husovo náměstí\, Hostivice\, Česká republika
CATEGORIES:Připravujeme
ATTACH;FMTTYPE=image/jpeg:https://hostivickypeveckysbor.cz/wp-content/uploads/2023/05/IMG_2031-1.jpg
END:VEVENT
BEGIN:VEVENT
DTSTART;TZID=Europe/Prague:20230610T093000
DTEND;TZID=Europe/Prague:20230610T170000
DTSTAMP:20260426T052549
CREATED:20230326T172421Z
LAST-MODIFIED:20230326T172421Z
UID:3760-1686389400-1686416400@hostivickypeveckysbor.cz
SUMMARY:Hájecká nota
DESCRIPTION:Loni jsme byli u zrodu tradice – festivalu Hájecká nota\, který se koná v inspirativním prostředí kláštera v Hájku. Pozvání jsme dostali také na letošní 2.ročník\, který se koná v sobotu 10.června 2023 od 9:30. Náš koncert začíná v 15 hodin.
URL:https://hostivickypeveckysbor.cz/event/hajecka-nota/
LOCATION:Františkánský klášter v Hájku\, Červený Újezd\, Česká republika
CATEGORIES:Připravujeme
ATTACH;FMTTYPE=image/jpeg:https://hostivickypeveckysbor.cz/wp-content/uploads/2023/03/Nota_2023_cropped.jpg
END:VEVENT
BEGIN:VEVENT
DTSTART;TZID=Europe/Prague:20230422T170000
DTEND;TZID=Europe/Prague:20230422T200000
DTSTAMP:20260426T052549
CREATED:20230109T230352Z
LAST-MODIFIED:20230327T233733Z
UID:3730-1682182800-1682193600@hostivickypeveckysbor.cz
SUMMARY:Hostivické sborobraní 2023
DESCRIPTION:Další ročník oblíbeného festivalu amatérských pěveckých sborů se bude konat v sobotu 22.dubna 2023. Začínáme už v 17 hodin. Účast potvrdily soubory Abalone\, Hlasy ve tmě\, Choirizzo a Lanškrounský pěvecký sbor. Samozřejmě vystoupí též pořádající Hostivický pěvecký sbor.
URL:https://hostivickypeveckysbor.cz/event/hostivicke-sborobrani-2023/
LOCATION:Sokolovna Hostivice\, Jiráskova 201\, Hostivice\, 253 01\, Česká republika
CATEGORIES:Připravujeme
ATTACH;FMTTYPE=image/png:https://hostivickypeveckysbor.cz/wp-content/uploads/2023/01/Hostivicke_sborobrani_2023_cropped.png
END:VEVENT
BEGIN:VEVENT
DTSTART;TZID=Europe/Prague:20230402T160000
DTEND;TZID=Europe/Prague:20230402T170000
DTSTAMP:20260426T052549
CREATED:20230322T231411Z
LAST-MODIFIED:20230322T231657Z
UID:3753-1680451200-1680454800@hostivickypeveckysbor.cz
SUMMARY:Velikonoce se blíží!
DESCRIPTION:V neděli 2.dubna v 16 hodin začíná náš koncert na velikonočním jarmarku ve dvoře kavárny Prostor a čas.
URL:https://hostivickypeveckysbor.cz/event/velikonoce-se-blizi/
LOCATION:Kavárna Prostor a čas\, Husovo nám. 9\, Hostivice\, 253 01\, Česká republika
CATEGORIES:Připravujeme
ATTACH;FMTTYPE=image/jpeg:https://hostivickypeveckysbor.cz/wp-content/uploads/2023/03/FB_IMG_1679491685079-1.jpg
END:VEVENT
BEGIN:VEVENT
DTSTART;TZID=Europe/Prague:20230108T160000
DTEND;TZID=Europe/Prague:20230108T173000
DTSTAMP:20260426T052549
CREATED:20221122T182513Z
LAST-MODIFIED:20221122T183112Z
UID:3690-1673193600-1673199000@hostivickypeveckysbor.cz
SUMMARY:Tříkrálový koncert u Panny Marie Sněžné
DESCRIPTION:Už potřetí jsme byli pozváni\, abychom vystoupili na tříkrálovém koncertě v chrámu Panny Marie Sněžné v Praze. Chrám má jedinečnou akustiku\, koncert je krásným vyvrcholením vánočního času. Přijďte si nás poslechnout v neděli 8.ledna 2023 v 16 hodin.
URL:https://hostivickypeveckysbor.cz/event/trikralovy-koncert-u-panny-marie-snezne/
LOCATION:Chrám Panny Marie Sněžné\, Jungmannovo náměstí 753/18\, Praha 1\, Česká republika
CATEGORIES:Připravujeme
ATTACH;FMTTYPE=image/jpeg:https://hostivickypeveckysbor.cz/wp-content/uploads/2022/11/Trikralovy_koncert_20231-2.jpg
END:VEVENT
BEGIN:VEVENT
DTSTART;TZID=Europe/Prague:20221218T150000
DTEND;TZID=Europe/Prague:20221218T153000
DTSTAMP:20260426T052549
CREATED:20221120T183242Z
LAST-MODIFIED:20221122T183719Z
UID:3676-1671375600-1671377400@hostivickypeveckysbor.cz
SUMMARY:Vánoční trhy na Staroměstském náměstí
DESCRIPTION:O poslední adventní neděli 18.prosince nás můžete potkat na Staroměstském náměstí v Praze. Naše vystoupení na vánočních trzích začíná v 15 hodin.
URL:https://hostivickypeveckysbor.cz/event/vanocni-trhy-na-staromestskem-namesti/
LOCATION:Staroměstské náměstí\, Staroměstské náměstí\, Praha 1\, Česká republika
CATEGORIES:Připravujeme
ATTACH;FMTTYPE=image/jpeg:https://hostivickypeveckysbor.cz/wp-content/uploads/2022/11/Strom_na_web-1.jpg
END:VEVENT
BEGIN:VEVENT
DTSTART;TZID=Europe/Prague:20221127T160000
DTEND;TZID=Europe/Prague:20221127T170000
DTSTAMP:20260426T052549
CREATED:20221114T074931Z
LAST-MODIFIED:20221127T230229Z
UID:3596-1669564800-1669568400@hostivickypeveckysbor.cz
SUMMARY:Koncert v kavárně Prostor a čas
DESCRIPTION:O první adventní neděli 27.11. v 16 hodin nás uslyšíte na adventním trhu ve dvoře kavárny Prostor a čas.
URL:https://hostivickypeveckysbor.cz/event/koncert-v-kavarne-prostor-a-cas/
LOCATION:Kavárna Prostor a čas\, Husovo nám. 9\, Hostivice\, 253 01\, Česká republika
CATEGORIES:Připravujeme
ATTACH;FMTTYPE=image/jpeg:https://hostivickypeveckysbor.cz/wp-content/uploads/2022/11/Jarmark_Prostor_a_cas-1.jpg
END:VEVENT
BEGIN:VEVENT
DTSTART;TZID=Europe/Prague:20221126T180000
DTEND;TZID=Europe/Prague:20221126T190000
DTSTAMP:20260426T052549
CREATED:20221113T204934Z
LAST-MODIFIED:20221127T230229Z
UID:3546-1669485600-1669489200@hostivickypeveckysbor.cz
SUMMARY:Hostivické světélkování - koncert
DESCRIPTION:Tradiční koncert\, který uzavírá Hostivické světélkování. Hostivický pěvecký sbor pod vedením sbormistryně Hany Krejčové přednese nejen adventní a vánoční skladby. V kostele sv. Jakuba začínáme v sobotu 26.11. v 18 hodin. Program najdete na našem Facebooku nebo v příspěvku na tomto webu.
URL:https://hostivickypeveckysbor.cz/event/hostivicke-svetelkovani-koncert/
LOCATION:Kostel svatého Jakuba\, Husovo náměstí 5\, Hostivice\, 253 01
CATEGORIES:Připravujeme
ATTACH;FMTTYPE=image/jpeg:https://hostivickypeveckysbor.cz/wp-content/uploads/2022/11/HPS_12365-websize.jpg
END:VEVENT
BEGIN:VEVENT
DTSTART;TZID=Europe/Prague:20221126T150000
DTEND;TZID=Europe/Prague:20221126T160000
DTSTAMP:20260426T052549
CREATED:20221113T204312Z
LAST-MODIFIED:20221127T230229Z
UID:3543-1669474800-1669478400@hostivickypeveckysbor.cz
SUMMARY:Koncert v Domově seniorů Zelená lípa
DESCRIPTION:Předpremiéra podvečerního koncertu doplněná o společný zpěv koled. Sobota 26.11. v 15 hodin.
URL:https://hostivickypeveckysbor.cz/event/koncert-v-domove-senioru-zelena-lipa/
LOCATION:Domov seniorů Zelená lípa\, Pelzova 1701\, Hostivice\, 253 01\, Česká republika
CATEGORIES:Připravujeme
ATTACH;FMTTYPE=image/jpeg:https://hostivickypeveckysbor.cz/wp-content/uploads/2022/11/IMG_4595-1.jpg
END:VEVENT
END:VCALENDAR