BEGIN:VCALENDAR
VERSION:2.0
PRODID:-//Hostivický pěvecký sbor - ECPv6.15.20//NONSGML v1.0//EN
CALSCALE:GREGORIAN
METHOD:PUBLISH
X-WR-CALNAME:Hostivický pěvecký sbor
X-ORIGINAL-URL:https://hostivickypeveckysbor.cz
X-WR-CALDESC:Akce na Hostivický pěvecký sbor
REFRESH-INTERVAL;VALUE=DURATION:PT1H
X-Robots-Tag:noindex
X-PUBLISHED-TTL:PT1H
BEGIN:VTIMEZONE
TZID:Europe/Prague
BEGIN:DAYLIGHT
TZOFFSETFROM:+0100
TZOFFSETTO:+0200
TZNAME:CEST
DTSTART:20250330T010000
END:DAYLIGHT
BEGIN:STANDARD
TZOFFSETFROM:+0200
TZOFFSETTO:+0100
TZNAME:CET
DTSTART:20251026T010000
END:STANDARD
BEGIN:DAYLIGHT
TZOFFSETFROM:+0100
TZOFFSETTO:+0200
TZNAME:CEST
DTSTART:20260329T010000
END:DAYLIGHT
BEGIN:STANDARD
TZOFFSETFROM:+0200
TZOFFSETTO:+0100
TZNAME:CET
DTSTART:20261025T010000
END:STANDARD
BEGIN:DAYLIGHT
TZOFFSETFROM:+0100
TZOFFSETTO:+0200
TZNAME:CEST
DTSTART:20270328T010000
END:DAYLIGHT
BEGIN:STANDARD
TZOFFSETFROM:+0200
TZOFFSETTO:+0100
TZNAME:CET
DTSTART:20271031T010000
END:STANDARD
END:VTIMEZONE
BEGIN:VEVENT
DTSTART;TZID=Europe/Prague:20260410T190000
DTEND;TZID=Europe/Prague:20260410T210000
DTSTAMP:20260425T205454
CREATED:20260127T212958Z
LAST-MODIFIED:20260407T115619Z
UID:6250-1775847600-1775854800@hostivickypeveckysbor.cz
SUMMARY:Sezimovo Ústí - 10.4.2026 19:00
DESCRIPTION:Přijali jsme milé pozvání souboru Nokturno ze Sezimova Ústí na Jarní festival sborového zpěvu.
URL:https://hostivickypeveckysbor.cz/event/jarni-festival-sboroveho-zpevu-10-4-2026-1900/
LOCATION:Sezimovo Ústí\, Sezimovo Ústí\, Czech Republic
CATEGORIES:Připravujeme
ATTACH;FMTTYPE=image/jpeg:https://hostivickypeveckysbor.cz/wp-content/uploads/2026/04/260410_Sezimak_miniatura.jpg
END:VEVENT
END:VCALENDAR